BEGIN:VCALENDAR
VERSION:2.0
PRODID:-//Science in Boston - ECPv6.15.20//NONSGML v1.0//EN
CALSCALE:GREGORIAN
METHOD:PUBLISH
X-ORIGINAL-URL:https://scienceinboston.com
X-WR-CALDESC:Events for Science in Boston
REFRESH-INTERVAL;VALUE=DURATION:PT1H
X-Robots-Tag:noindex
X-PUBLISHED-TTL:PT1H
BEGIN:VTIMEZONE
TZID:America/Vancouver
BEGIN:DAYLIGHT
TZOFFSETFROM:-0800
TZOFFSETTO:-0700
TZNAME:PDT
DTSTART:20240310T100000
END:DAYLIGHT
BEGIN:STANDARD
TZOFFSETFROM:-0700
TZOFFSETTO:-0800
TZNAME:PST
DTSTART:20241103T090000
END:STANDARD
BEGIN:DAYLIGHT
TZOFFSETFROM:-0800
TZOFFSETTO:-0700
TZNAME:PDT
DTSTART:20250309T100000
END:DAYLIGHT
BEGIN:STANDARD
TZOFFSETFROM:-0700
TZOFFSETTO:-0800
TZNAME:PST
DTSTART:20251102T090000
END:STANDARD
BEGIN:DAYLIGHT
TZOFFSETFROM:-0800
TZOFFSETTO:-0700
TZNAME:PDT
DTSTART:20260308T100000
END:DAYLIGHT
BEGIN:STANDARD
TZOFFSETFROM:-0700
TZOFFSETTO:-0800
TZNAME:PST
DTSTART:20261101T090000
END:STANDARD
END:VTIMEZONE
BEGIN:VEVENT
DTSTART;TZID=America/Vancouver:20250402T080000
DTEND;TZID=America/Vancouver:20250404T170000
DTSTAMP:20260421T024246
CREATED:20250207T210817Z
LAST-MODIFIED:20250207T210817Z
UID:33539-1743580800-1743786000@scienceinboston.com
SUMMARY:Bio-IT World Conference & Expo
DESCRIPTION:The Bio-IT World Conference & Expo is the premier global event showcasing technologies and analytic approaches that solve problems\, accelerate science\, and drive the future of precision medicine. By uniting a community of 3\,000+ leaders in life sciences\, pharmaceuticals\, clinical research\, healthcare\, informatics\, and technology\, the event pushes the boundaries of biomedical research\, drug discovery and development\, and patient outcomes. The program features inspiring plenary keynotes\, 200+ educational and technical presentations\, interactive panels\, hands-on symposia\, technical workshops\, unparalleled networking opportunities\, and an exhibit hall showcasing cutting-edge technologies and solutions. Attendees are invited to engage in transformative conversations on the latest advancements in digital and data transformations; AI; generative AI; machine learning (ML); real-world data strategies; pilot programs; new product results; and biotech investment trends.
URL:https://scienceinboston.com/event/bio-it-world-conference-expo/
LOCATION:Omni Hotel Boston at the Seaport\, 450 Summer St\, Boston\, MA\, 02210\, United States
ATTACH;FMTTYPE=image/png:https://scienceinboston.com/wp-content/uploads/sites/6/2025/02/Screenshot-2025-02-07-121337.png
END:VEVENT
BEGIN:VEVENT
DTSTART;TZID=America/Vancouver:20250408T140000
DTEND;TZID=America/Vancouver:20250408T170000
DTSTAMP:20260421T024246
CREATED:20250314T210615Z
LAST-MODIFIED:20250314T210615Z
UID:34100-1744120800-1744131600@scienceinboston.com
SUMMARY:AI: Advancing Foundational Biology
DESCRIPTION:The Whitehead Innovation Initiative is pleased to host AI: Advancing Foundational Biology on April 8\, 2025. This symposium will explore how artificial intelligence and machine learning are transforming foundational biological research\, featuring insights from pioneering computational biologists and AI experts. \nThis half-day event includes talks from leaders successfully integrating AI into biological discovery\, a discussion with Innovation Initiative co-founder\, Michael Chambers\, and a poster session that offers attendees an opportunity to engage with cutting-edge AI applications in research. \nVisit bit.ly/whitehead-ai to register. For questions\, email events@wi.mit.edu.
URL:https://scienceinboston.com/event/ai-advancing-foundational-biology/
LOCATION:Whitehead Institute for Biomedical Research\, 455 Main Street\, Cambridge\, MA\, 02142\, United States
ATTACH;FMTTYPE=image/jpeg:https://scienceinboston.com/wp-content/uploads/sites/6/2025/03/GmBwnx3W4AEzfZo-scaled.jpg
END:VEVENT
END:VCALENDAR