BEGIN:VCALENDAR
VERSION:2.0
PRODID:-//Science in Boston - ECPv6.15.20//NONSGML v1.0//EN
CALSCALE:GREGORIAN
METHOD:PUBLISH
X-WR-CALNAME:Science in Boston
X-ORIGINAL-URL:https://scienceinboston.com
X-WR-CALDESC:Events for Science in Boston
REFRESH-INTERVAL;VALUE=DURATION:PT1H
X-Robots-Tag:noindex
X-PUBLISHED-TTL:PT1H
BEGIN:VTIMEZONE
TZID:America/Vancouver
BEGIN:DAYLIGHT
TZOFFSETFROM:-0800
TZOFFSETTO:-0700
TZNAME:PDT
DTSTART:20250309T100000
END:DAYLIGHT
BEGIN:STANDARD
TZOFFSETFROM:-0700
TZOFFSETTO:-0800
TZNAME:PST
DTSTART:20251102T090000
END:STANDARD
BEGIN:DAYLIGHT
TZOFFSETFROM:-0800
TZOFFSETTO:-0700
TZNAME:PDT
DTSTART:20260308T100000
END:DAYLIGHT
BEGIN:STANDARD
TZOFFSETFROM:-0700
TZOFFSETTO:-0800
TZNAME:PST
DTSTART:20261101T090000
END:STANDARD
BEGIN:DAYLIGHT
TZOFFSETFROM:-0800
TZOFFSETTO:-0700
TZNAME:PDT
DTSTART:20270314T100000
END:DAYLIGHT
BEGIN:STANDARD
TZOFFSETFROM:-0700
TZOFFSETTO:-0800
TZNAME:PST
DTSTART:20271107T090000
END:STANDARD
END:VTIMEZONE
BEGIN:VEVENT
DTSTART;TZID=America/Vancouver:20260425T080000
DTEND;TZID=America/Vancouver:20260425T170000
DTSTAMP:20260425T034323
CREATED:20260128T003308Z
LAST-MODIFIED:20260128T003308Z
UID:38479-1777104000-1777136400@scienceinboston.com
SUMMARY:NOVA 2026
DESCRIPTION:NOVA is a conference catalyzing innovation in brain aging in Boston\, organized by the Aging Initiative and bringing together the brightest minds from the entire stakeholder spectrum to advance this essential area of neuroscience. From biotechnology executives to investors\, trainees to seasoned academics\, patient care advocates\, policymakers\, and more\, this gathering comes at a major inflection point in our understanding and treatment of age-related neurological conditions. With millions of patients\, caregivers\, and providers facing neurodegenerative diseases\, age-related decline\, and injury every day\, we believe innovative cross-disciplinary solutions are essential. Especially now\, it is of the utmost importance that we galvanize collaboration and inspire the next generation to take action. Through NOVA\, we will change how the field of neuroscience thinks about brain aging\, its manifestations\, and ultimately\, how to advance the race towards cures.
URL:https://scienceinboston.com/event/nova-2026/
LOCATION:MA
ATTACH;FMTTYPE=image/png:https://scienceinboston.com/wp-content/uploads/sites/6/2026/01/Screenshot-2026-01-27-162938.png
END:VEVENT
END:VCALENDAR