BEGIN:VCALENDAR
VERSION:2.0
PRODID:-//Science in Boston - ECPv6.15.20//NONSGML v1.0//EN
CALSCALE:GREGORIAN
METHOD:PUBLISH
X-ORIGINAL-URL:https://scienceinboston.com
X-WR-CALDESC:Events for Science in Boston
REFRESH-INTERVAL;VALUE=DURATION:PT1H
X-Robots-Tag:noindex
X-PUBLISHED-TTL:PT1H
BEGIN:VTIMEZONE
TZID:America/Vancouver
BEGIN:DAYLIGHT
TZOFFSETFROM:-0800
TZOFFSETTO:-0700
TZNAME:PDT
DTSTART:20240310T100000
END:DAYLIGHT
BEGIN:STANDARD
TZOFFSETFROM:-0700
TZOFFSETTO:-0800
TZNAME:PST
DTSTART:20241103T090000
END:STANDARD
BEGIN:DAYLIGHT
TZOFFSETFROM:-0800
TZOFFSETTO:-0700
TZNAME:PDT
DTSTART:20250309T100000
END:DAYLIGHT
BEGIN:STANDARD
TZOFFSETFROM:-0700
TZOFFSETTO:-0800
TZNAME:PST
DTSTART:20251102T090000
END:STANDARD
BEGIN:DAYLIGHT
TZOFFSETFROM:-0800
TZOFFSETTO:-0700
TZNAME:PDT
DTSTART:20260308T100000
END:DAYLIGHT
BEGIN:STANDARD
TZOFFSETFROM:-0700
TZOFFSETTO:-0800
TZNAME:PST
DTSTART:20261101T090000
END:STANDARD
END:VTIMEZONE
BEGIN:VEVENT
DTSTART;VALUE=DATE:20250915
DTEND;VALUE=DATE:20250919
DTSTAMP:20260421T023539
CREATED:20250812T222340Z
LAST-MODIFIED:20250812T222340Z
UID:36134-1757894400-1758239999@scienceinboston.com
SUMMARY:BioProcess International East
DESCRIPTION:The BioProcess International Conference & Exhibition is a premier event dedicated to bioprocessing and biopharmaceutical manufacturing. Scheduled to take place from September 15 to September 18\, 2025\, at the Hynes Convention Center in Boston\, this conference will gather industry leaders\, researchers\, and innovators from around the globe. Attendees will have the opportunity to engage in insightful discussions\, attend informative sessions\, and explore cutting-edge technologies and solutions that are shaping the future of bioprocessing.
URL:https://scienceinboston.com/event/bioprocess-international-east/
LOCATION:Hynes Convention and Exhibition Center
ATTACH;FMTTYPE=image/png:https://scienceinboston.com/wp-content/uploads/sites/6/2025/08/Screenshot-2025-08-12-151923.png
END:VEVENT
END:VCALENDAR