BEGIN:VCALENDAR
VERSION:2.0
PRODID:-//Science in Boston - ECPv6.15.20//NONSGML v1.0//EN
CALSCALE:GREGORIAN
METHOD:PUBLISH
X-WR-CALNAME:Science in Boston
X-ORIGINAL-URL:https://scienceinboston.com
X-WR-CALDESC:Events for Science in Boston
REFRESH-INTERVAL;VALUE=DURATION:PT1H
X-Robots-Tag:noindex
X-PUBLISHED-TTL:PT1H
BEGIN:VTIMEZONE
TZID:America/Vancouver
BEGIN:DAYLIGHT
TZOFFSETFROM:-0800
TZOFFSETTO:-0700
TZNAME:PDT
DTSTART:20240310T100000
END:DAYLIGHT
BEGIN:STANDARD
TZOFFSETFROM:-0700
TZOFFSETTO:-0800
TZNAME:PST
DTSTART:20241103T090000
END:STANDARD
BEGIN:DAYLIGHT
TZOFFSETFROM:-0800
TZOFFSETTO:-0700
TZNAME:PDT
DTSTART:20250309T100000
END:DAYLIGHT
BEGIN:STANDARD
TZOFFSETFROM:-0700
TZOFFSETTO:-0800
TZNAME:PST
DTSTART:20251102T090000
END:STANDARD
BEGIN:DAYLIGHT
TZOFFSETFROM:-0800
TZOFFSETTO:-0700
TZNAME:PDT
DTSTART:20260308T100000
END:DAYLIGHT
BEGIN:STANDARD
TZOFFSETFROM:-0700
TZOFFSETTO:-0800
TZNAME:PST
DTSTART:20261101T090000
END:STANDARD
END:VTIMEZONE
BEGIN:VEVENT
DTSTART;TZID=America/Vancouver:20250219T080000
DTEND;TZID=America/Vancouver:20250221T170000
DTSTAMP:20260421T022954
CREATED:20241127T005401Z
LAST-MODIFIED:20250205T222825Z
UID:32666-1739952000-1740157200@scienceinboston.com
SUMMARY:3rd Viral Vector Process Development & Manufacturing Summit
DESCRIPTION:Join us in Boston at the 3rd Viral Vector Process Development & Manufacturing Summit to tackle these challenges! \n\n What’s in store? \n– Capsid Optimization & Purification Breakthroughs \n– Seamless Scalability & COG Reduction Strategies \n– High-dose production solutions \n– 20+ hours of Expert Content\, 2 Workshops\, & 6+ Hours of Networking \n– 20+ Expert Speakers in this space \n\nDownload the agenda here to find out more: https://ter.li/to1vr0 \n\nThis is the special 10% discount code for the Science in Boston audience: 55228SIB10
URL:https://scienceinboston.com/event/optimizing-upstream-downstream-process-development-to-generate-scalable-functional-high-yield-viral-vectors-at-lower-cost-for-cell-gene-therapies/
LOCATION:Hilton Boston Back Bay\, 40 Dalton St\, Boston\, MA\, 02115\, United States
ATTACH;FMTTYPE=image/jpeg:https://scienceinboston.com/wp-content/uploads/sites/6/2024/11/Screenshot-2024-11-26-165332.jpg
END:VEVENT
END:VCALENDAR