BEGIN:VCALENDAR
VERSION:2.0
PRODID:-//Science in Boston - ECPv6.15.20//NONSGML v1.0//EN
CALSCALE:GREGORIAN
METHOD:PUBLISH
X-ORIGINAL-URL:https://scienceinboston.com
X-WR-CALDESC:Events for Science in Boston
REFRESH-INTERVAL;VALUE=DURATION:PT1H
X-Robots-Tag:noindex
X-PUBLISHED-TTL:PT1H
BEGIN:VTIMEZONE
TZID:America/Vancouver
BEGIN:DAYLIGHT
TZOFFSETFROM:-0800
TZOFFSETTO:-0700
TZNAME:PDT
DTSTART:20240310T100000
END:DAYLIGHT
BEGIN:STANDARD
TZOFFSETFROM:-0700
TZOFFSETTO:-0800
TZNAME:PST
DTSTART:20241103T090000
END:STANDARD
BEGIN:DAYLIGHT
TZOFFSETFROM:-0800
TZOFFSETTO:-0700
TZNAME:PDT
DTSTART:20250309T100000
END:DAYLIGHT
BEGIN:STANDARD
TZOFFSETFROM:-0700
TZOFFSETTO:-0800
TZNAME:PST
DTSTART:20251102T090000
END:STANDARD
BEGIN:DAYLIGHT
TZOFFSETFROM:-0800
TZOFFSETTO:-0700
TZNAME:PDT
DTSTART:20260308T100000
END:DAYLIGHT
BEGIN:STANDARD
TZOFFSETFROM:-0700
TZOFFSETTO:-0800
TZNAME:PST
DTSTART:20261101T090000
END:STANDARD
END:VTIMEZONE
BEGIN:VEVENT
DTSTART;TZID=America/Vancouver:20250127T143000
DTEND;TZID=America/Vancouver:20250127T170000
DTSTAMP:20260421T012430
CREATED:20241125T191027Z
LAST-MODIFIED:20241125T191027Z
UID:32650-1737988200-1737997200@scienceinboston.com
SUMMARY:Beyond the Lab: Journey from Scientist to Founder
DESCRIPTION:Hosted by E14 Fund and MAS\, this engaging workshop will bring together MIT founders to share their experiences and insights on transitioning from scientists and engineers to entrepreneurs. The workshop is designed to guide you through the entrepreneurial process\, encourage meaningful connections with both experienced and budding founders\, and build a supportive community of peers at various stages of their startup journey. \nSpace is limited and applications to join are due by December 6. \nSign up: https://beyondthelab.mit.edu/iap
URL:https://scienceinboston.com/event/beyond-the-lab-journey-from-scientist-to-founder/
LOCATION:MIT Media Lab\, 75 Amherst St\, Cambridge\, MA\, 02139\, United States
ATTACH;FMTTYPE=image/jpeg:https://scienceinboston.com/wp-content/uploads/sites/6/2024/11/91494aa2f2f4ba3f8bc36c8d780d00d9625bd40b.jpg
END:VEVENT
BEGIN:VEVENT
DTSTART;TZID=America/Vancouver:20250127T170000
DTEND;TZID=America/Vancouver:20250127T200000
DTSTAMP:20260421T012430
CREATED:20241125T190749Z
LAST-MODIFIED:20241125T190749Z
UID:32644-1737997200-1738008000@scienceinboston.com
SUMMARY:2025 Economic Outlook Forum
DESCRIPTION:After a year of optimism and transition\, the biopharma industry now wonders what opportunities and challenges lie ahead in 2025. MassBio invites you to a double bill of panel discussions between local executives and industry experts. Join the conversation on the headlines from the JP Morgan Healthcare Conference\, macro-economic trends affecting biopharma innovation\, and how the new year could be different from the last\, all through a Massachusetts lens. \nYou’ll not want to miss insights from pharma\, biotech\, and the investment community. \n\nWhere is the market heading?\nWhat’s the environment for venture funding\, IPOs\, acquisitions\, and dealmaking?\nAnd what does it all mean for innovation in Greater Boston?\n\nThis members-only event\, taking place on the heels of the release of MassBio’s 2024 Biopharma Funding Report and JP Morgan’s Healthcare Conference in San Francisco\, always sells out. Register now to reserve your spot.
URL:https://scienceinboston.com/event/2025-economic-outlook-forum/
LOCATION:MassBioHub\, 700 Technology Square\, Cambridge\, MA\, 02139\, United States
ATTACH;FMTTYPE=image/jpeg:https://scienceinboston.com/wp-content/uploads/sites/6/2024/08/Screenshot-2024-08-01-153059.jpg
END:VEVENT
END:VCALENDAR