BEGIN:VCALENDAR
VERSION:2.0
PRODID:-//Science in Boston - ECPv6.15.20//NONSGML v1.0//EN
CALSCALE:GREGORIAN
METHOD:PUBLISH
X-WR-CALNAME:Science in Boston
X-ORIGINAL-URL:https://scienceinboston.com
X-WR-CALDESC:Events for Science in Boston
REFRESH-INTERVAL;VALUE=DURATION:PT1H
X-Robots-Tag:noindex
X-PUBLISHED-TTL:PT1H
BEGIN:VTIMEZONE
TZID:America/Vancouver
BEGIN:DAYLIGHT
TZOFFSETFROM:-0800
TZOFFSETTO:-0700
TZNAME:PDT
DTSTART:20230312T100000
END:DAYLIGHT
BEGIN:STANDARD
TZOFFSETFROM:-0700
TZOFFSETTO:-0800
TZNAME:PST
DTSTART:20231105T090000
END:STANDARD
BEGIN:DAYLIGHT
TZOFFSETFROM:-0800
TZOFFSETTO:-0700
TZNAME:PDT
DTSTART:20240310T100000
END:DAYLIGHT
BEGIN:STANDARD
TZOFFSETFROM:-0700
TZOFFSETTO:-0800
TZNAME:PST
DTSTART:20241103T090000
END:STANDARD
BEGIN:DAYLIGHT
TZOFFSETFROM:-0800
TZOFFSETTO:-0700
TZNAME:PDT
DTSTART:20250309T100000
END:DAYLIGHT
BEGIN:STANDARD
TZOFFSETFROM:-0700
TZOFFSETTO:-0800
TZNAME:PST
DTSTART:20251102T090000
END:STANDARD
END:VTIMEZONE
BEGIN:VEVENT
DTSTART;TZID=America/Vancouver:20240620T170000
DTEND;TZID=America/Vancouver:20240620T210000
DTSTAMP:20260422T015901
CREATED:20240611T210556Z
LAST-MODIFIED:20240611T210556Z
UID:30389-1718902800-1718917200@scienceinboston.com
SUMMARY:Summer Solstice Celebration: Night at the Harvard Museums of Science & Culture
DESCRIPTION:Join the Harvard Museums of Science & Culture on the longest day of the year—free of charge—to explore the galleries and new exhibitions at the Harvard Museum of Natural History\, the Peabody Museum of Archaeology & Ethnology\, the Collection of Historical Scientific Instruments\, and the Harvard Museum of the Ancient Near East. \nStep outdoors to enjoy lively musical and circus performances\, play mini-golf\, and make a flower crown. Ice cream\, beverages\, and snacks will be available to purchase from food trucks. Don’t miss out on this popular event for all ages! \nSponsored by the Harvard Museums of Science & Culture. \nFree event parking will be available at the 52 Oxford Street Garage. Please note that Divinity Avenue will be closed to traffic during the event.  \nThe Harvard Museums of Science & Culture are an 8-minute walk through historic Harvard Yard from the Harvard Square MBTA Red Line station. \nArtsThursdays is a university-wide initiative supported by Harvard University Committee on the Arts.
URL:https://scienceinboston.com/event/summer-solstice-celebration-night-at-the-harvard-museums-of-science-culture/
LOCATION:Peabody Museum of Archaeology & Ethnology\, 11 Divinity Avenue\, Cambridge\, WA\, United States
ATTACH;FMTTYPE=image/jpeg:https://scienceinboston.com/wp-content/uploads/sites/6/2024/06/Xsolstice_outside_web©CaitlinCunninghamPhotographyLLC_049.jpg
END:VEVENT
BEGIN:VEVENT
DTSTART;TZID=America/Vancouver:20240620T173000
DTEND;TZID=America/Vancouver:20240620T190000
DTSTAMP:20260422T015901
CREATED:20240613T154818Z
LAST-MODIFIED:20240613T154818Z
UID:30443-1718904600-1718910000@scienceinboston.com
SUMMARY:NOVA Science Trivia Night
DESCRIPTION:For 50 years\, NOVA\, the PBS documentary series\, has been educating and entertaining millions of television viewers with stories of scientific discovery\, from the latest breakthroughs in technology to the deepest mysteries of the natural world—and we are based right here in Boston! \nOn June 20th at 5:30PM\, bring your trivia crew to the Boston Public Library’s GBH Studio for a nerdy night of NOVA science trivia. Get ready for creative categories and exciting prizes as we test your knowledge of the natural world\, space\, the history of science\, and more! \nFood and beverages will be available for purchase at the Newsfeed Café. The event is free\, but space is limited. Please RSVP in advance.
URL:https://scienceinboston.com/event/nova-science-trivia-night-2/
LOCATION:Boston Public Library GBH Studio\, 700 Boylston St\, Boston\, MA\, 02116\, United States
ATTACH;FMTTYPE=image/png:https://scienceinboston.com/wp-content/uploads/sites/6/2024/06/NOVA_Trivia_Night_Promo_Image.png
END:VEVENT
BEGIN:VEVENT
DTSTART;TZID=America/Vancouver:20240620T180000
DTEND;TZID=America/Vancouver:20240620T193000
DTSTAMP:20260422T015901
CREATED:20240605T192447Z
LAST-MODIFIED:20240605T192447Z
UID:30260-1718906400-1718911800@scienceinboston.com
SUMMARY:Liquid Lab Art Workshops
DESCRIPTION:Reimagine the biologist’s laboratory as an artist’s studio.\n\nIn this small group\, instructor-led workshop\, learn techniques taken from the wet lab and apply them to create experimental art and objects. No prior experience necessary. \n18+ only\n$40/per session $30/with valid college ID\nRefreshments will be served \nSpace is limited. Pre-registration required. Click here for session dates and registration links. \nInterested in other Adult Workshops? Take a look at our Making Studio and Science Paint Night series.
URL:https://scienceinboston.com/event/liquid-lab-art-workshops/
LOCATION:MIT Museum\, 314 Main Street\, Cambridge\, MA\, 02142\, United States
ATTACH;FMTTYPE=image/jpeg:https://scienceinboston.com/wp-content/uploads/sites/6/2024/06/Screenshot-2024-06-05-122242.jpg
END:VEVENT
END:VCALENDAR